BEGIN:VCALENDAR
VERSION:2.0
PRODID:-//Great Valley Democratic Committee - ECPv6.15.20//NONSGML v1.0//EN
CALSCALE:GREGORIAN
METHOD:PUBLISH
X-WR-CALNAME:Great Valley Democratic Committee
X-ORIGINAL-URL:https://greatvalleydems.com
X-WR-CALDESC:Events for Great Valley Democratic Committee
REFRESH-INTERVAL;VALUE=DURATION:PT1H
X-Robots-Tag:noindex
X-PUBLISHED-TTL:PT1H
BEGIN:VTIMEZONE
TZID:America/New_York
BEGIN:DAYLIGHT
TZOFFSETFROM:-0500
TZOFFSETTO:-0400
TZNAME:EDT
DTSTART:20250309T070000
END:DAYLIGHT
BEGIN:STANDARD
TZOFFSETFROM:-0400
TZOFFSETTO:-0500
TZNAME:EST
DTSTART:20251102T060000
END:STANDARD
BEGIN:DAYLIGHT
TZOFFSETFROM:-0500
TZOFFSETTO:-0400
TZNAME:EDT
DTSTART:20260308T070000
END:DAYLIGHT
BEGIN:STANDARD
TZOFFSETFROM:-0400
TZOFFSETTO:-0500
TZNAME:EST
DTSTART:20261101T060000
END:STANDARD
BEGIN:DAYLIGHT
TZOFFSETFROM:-0500
TZOFFSETTO:-0400
TZNAME:EDT
DTSTART:20270314T070000
END:DAYLIGHT
BEGIN:STANDARD
TZOFFSETFROM:-0400
TZOFFSETTO:-0500
TZNAME:EST
DTSTART:20271107T060000
END:STANDARD
END:VTIMEZONE
BEGIN:VEVENT
DTSTART;TZID=America/New_York:20260204T190000
DTEND;TZID=America/New_York:20260204T200000
DTSTAMP:20260421T140946
CREATED:20251111T204029Z
LAST-MODIFIED:20251111T204029Z
UID:9407-1770231600-1770235200@greatvalleydems.com
SUMMARY:Volunteer Meeting
DESCRIPTION:Petitions need to get signed to get our Democratic candidates on the ballot. Please help.
URL:https://greatvalleydems.com/event/volunteer-meeting-2/
LOCATION:East Whiteland Township Bldg\, 209 Conestoga Rd\, Malvern\, PA\, 19355\, United States
CATEGORIES:Monthly Meeting
ATTACH;FMTTYPE=image/jpeg:https://greatvalleydems.com/wp-content/uploads/2024/11/20250507_194451-scaled.jpg
END:VEVENT
END:VCALENDAR