BEGIN:VCALENDAR
VERSION:2.0
PRODID:-//Great Valley Democratic Committee - ECPv6.15.20//NONSGML v1.0//EN
CALSCALE:GREGORIAN
METHOD:PUBLISH
X-WR-CALNAME:Great Valley Democratic Committee
X-ORIGINAL-URL:https://greatvalleydems.com
X-WR-CALDESC:Events for Great Valley Democratic Committee
REFRESH-INTERVAL;VALUE=DURATION:PT1H
X-Robots-Tag:noindex
X-PUBLISHED-TTL:PT1H
BEGIN:VTIMEZONE
TZID:America/New_York
BEGIN:DAYLIGHT
TZOFFSETFROM:-0500
TZOFFSETTO:-0400
TZNAME:EDT
DTSTART:20240310T070000
END:DAYLIGHT
BEGIN:STANDARD
TZOFFSETFROM:-0400
TZOFFSETTO:-0500
TZNAME:EST
DTSTART:20241103T060000
END:STANDARD
BEGIN:DAYLIGHT
TZOFFSETFROM:-0500
TZOFFSETTO:-0400
TZNAME:EDT
DTSTART:20250309T070000
END:DAYLIGHT
BEGIN:STANDARD
TZOFFSETFROM:-0400
TZOFFSETTO:-0500
TZNAME:EST
DTSTART:20251102T060000
END:STANDARD
BEGIN:DAYLIGHT
TZOFFSETFROM:-0500
TZOFFSETTO:-0400
TZNAME:EDT
DTSTART:20260308T070000
END:DAYLIGHT
BEGIN:STANDARD
TZOFFSETFROM:-0400
TZOFFSETTO:-0500
TZNAME:EST
DTSTART:20261101T060000
END:STANDARD
END:VTIMEZONE
BEGIN:VEVENT
DTSTART;TZID=America/New_York:20250903T190000
DTEND;TZID=America/New_York:20250903T200000
DTSTAMP:20260421T222942
CREATED:20241127T002229Z
LAST-MODIFIED:20250722T141600Z
UID:8899-1756926000-1756929600@greatvalleydems.com
SUMMARY:September Volunteer Meeting
DESCRIPTION:The school year is back in session and our school board candidates need to win. Join us so we can get our all of our local candidates elected. Sign up here.
URL:https://greatvalleydems.com/event/september-monthly-meeting-2/
LOCATION:East Whiteland Township Bldg\, 209 Conestoga Rd\, Malvern\, PA\, 19355\, United States
CATEGORIES:Monthly Meeting
ATTACH;FMTTYPE=image/jpeg:https://greatvalleydems.com/wp-content/uploads/2024/11/20250507_194451-scaled.jpg
END:VEVENT
END:VCALENDAR