BEGIN:VCALENDAR
VERSION:2.0
PRODID:-//Great Valley Democratic Committee - ECPv6.15.20//NONSGML v1.0//EN
CALSCALE:GREGORIAN
METHOD:PUBLISH
X-ORIGINAL-URL:https://greatvalleydems.com
X-WR-CALDESC:Events for Great Valley Democratic Committee
REFRESH-INTERVAL;VALUE=DURATION:PT1H
X-Robots-Tag:noindex
X-PUBLISHED-TTL:PT1H
BEGIN:VTIMEZONE
TZID:America/New_York
BEGIN:DAYLIGHT
TZOFFSETFROM:-0500
TZOFFSETTO:-0400
TZNAME:EDT
DTSTART:20240310T070000
END:DAYLIGHT
BEGIN:STANDARD
TZOFFSETFROM:-0400
TZOFFSETTO:-0500
TZNAME:EST
DTSTART:20241103T060000
END:STANDARD
BEGIN:DAYLIGHT
TZOFFSETFROM:-0500
TZOFFSETTO:-0400
TZNAME:EDT
DTSTART:20250309T070000
END:DAYLIGHT
BEGIN:STANDARD
TZOFFSETFROM:-0400
TZOFFSETTO:-0500
TZNAME:EST
DTSTART:20251102T060000
END:STANDARD
BEGIN:DAYLIGHT
TZOFFSETFROM:-0500
TZOFFSETTO:-0400
TZNAME:EDT
DTSTART:20260308T070000
END:DAYLIGHT
BEGIN:STANDARD
TZOFFSETFROM:-0400
TZOFFSETTO:-0500
TZNAME:EST
DTSTART:20261101T060000
END:STANDARD
END:VTIMEZONE
BEGIN:VTIMEZONE
TZID:America/Halifax
BEGIN:DAYLIGHT
TZOFFSETFROM:-0400
TZOFFSETTO:-0300
TZNAME:ADT
DTSTART:20240310T060000
END:DAYLIGHT
BEGIN:STANDARD
TZOFFSETFROM:-0300
TZOFFSETTO:-0400
TZNAME:AST
DTSTART:20241103T050000
END:STANDARD
BEGIN:DAYLIGHT
TZOFFSETFROM:-0400
TZOFFSETTO:-0300
TZNAME:ADT
DTSTART:20250309T060000
END:DAYLIGHT
BEGIN:STANDARD
TZOFFSETFROM:-0300
TZOFFSETTO:-0400
TZNAME:AST
DTSTART:20251102T050000
END:STANDARD
BEGIN:DAYLIGHT
TZOFFSETFROM:-0400
TZOFFSETTO:-0300
TZNAME:ADT
DTSTART:20260308T060000
END:DAYLIGHT
BEGIN:STANDARD
TZOFFSETFROM:-0300
TZOFFSETTO:-0400
TZNAME:AST
DTSTART:20261101T050000
END:STANDARD
END:VTIMEZONE
BEGIN:VEVENT
DTSTART;TZID=America/New_York:20251001T190000
DTEND;TZID=America/New_York:20251001T200000
DTSTAMP:20260424T133613
CREATED:20241127T002442Z
LAST-MODIFIED:20250722T142612Z
UID:8901-1759345200-1759348800@greatvalleydems.com
SUMMARY:October Volunteer Meeting
DESCRIPTION:The election is only a month away. \nAre we ready? Do we have the votes? \nPlease volunteer to help. Sign up now.
URL:https://greatvalleydems.com/event/october-volunteer-meeting/
LOCATION:East Whiteland Township Bldg\, 209 Conestoga Rd\, Malvern\, PA\, 19355\, United States
CATEGORIES:Monthly Meeting
ATTACH;FMTTYPE=image/jpeg:https://greatvalleydems.com/wp-content/uploads/2023/12/Monthly-Meeting-September.jpg
END:VEVENT
BEGIN:VEVENT
DTSTART;TZID=America/New_York:20250930T190000
DTEND;TZID=America/New_York:20250930T200000
DTSTAMP:20260424T133613
CREATED:20250722T155750Z
LAST-MODIFIED:20250722T155850Z
UID:9196-1759258800-1759262400@greatvalleydems.com
SUMMARY:Activism Team Meeting
DESCRIPTION:The Activism Team meets from 7-8 pm on the last Tuesday of every month at the Wegmans in Malvern (enter side facing Target). For further details\, reach out to Kent at kingankpa@verizon.net.
URL:https://greatvalleydems.com/event/activism-team-meeting-3/
LOCATION:Wegmans\, 50 Foundry Way\, Malvern\, PA\, 19355\, United States
CATEGORIES:Activism
ATTACH;FMTTYPE=image/jpeg:https://greatvalleydems.com/wp-content/uploads/2025/07/20250405_173205571_iOS-1-scaled-e1753199779346.jpg
END:VEVENT
BEGIN:VEVENT
DTSTART;VALUE=DATE:20250929
DTEND;VALUE=DATE:20251006
DTSTAMP:20260424T133613
CREATED:20250907T230439Z
LAST-MODIFIED:20250911T150904Z
UID:9260-1759104000-1759708799@greatvalleydems.com
SUMMARY:Great Valley GOTV Canvassing
DESCRIPTION:Sign up to help the Great Valley Democrats canvass for the month of September. We’ll talk with neighbors about the importance of turning out this year for county and municipal Democratic candidates. We’ll also talk about the importance of the PA Supreme Court Retention race. You can complete the list on your own time and with a friend\, on your own\, or ask to be given a partner. Training is available. \nThe times listed in the signup are not all inclusive. You may canvass at any day or anytime when you are available. Pick a week in the list that works for you\, and we will give you the packet we are working on that week. Packet pickup location within the Great Valley zone is sent after you sign up. Register here.
URL:https://greatvalleydems.com/event/great-valley-gotv-canvassing-10-3-25/
LOCATION:Great Valley\, Chester County\, PA
CATEGORIES:Canvass
ATTACH;FMTTYPE=image/png:https://greatvalleydems.com/wp-content/uploads/2025/09/gv-dems-canvassing.png
END:VEVENT
BEGIN:VEVENT
DTSTART;VALUE=DATE:20250922
DTEND;VALUE=DATE:20250929
DTSTAMP:20260424T133613
CREATED:20250907T230435Z
LAST-MODIFIED:20250911T150835Z
UID:9261-1758499200-1759103999@greatvalleydems.com
SUMMARY:Great Valley GOTV Canvassing
DESCRIPTION:Sign up to help the Great Valley Democrats canvass for the month of September. We’ll talk with neighbors about the importance of turning out this year for county and municipal Democratic candidates. We’ll also talk about the importance of the PA Supreme Court Retention race. You can complete the list on your own time and with a friend\, on your own\, or ask to be given a partner. Training is available. \nThe times listed in the signup are not all inclusive. You may canvass at any day or anytime when you are available. Pick a week in the list that works for you\, and we will give you the packet we are working on that week. Packet pickup location within the Great Valley zone is sent after you sign up. Register here.
URL:https://greatvalleydems.com/event/great-valley-gotv-canvassing-9-26-25/
LOCATION:Great Valley\, Chester County\, PA
CATEGORIES:Canvass
ATTACH;FMTTYPE=image/png:https://greatvalleydems.com/wp-content/uploads/2025/09/gv-dems-canvassing.png
END:VEVENT
BEGIN:VEVENT
DTSTART;TZID=America/New_York:20250917T100000
DTEND;TZID=America/New_York:20250917T113000
DTSTAMP:20260424T133613
CREATED:20250630T113307Z
LAST-MODIFIED:20250630T113539Z
UID:9128-1758103200-1758108600@greatvalleydems.com
SUMMARY:Coffee & Conversation
DESCRIPTION:Let’s join our friends and neighbors in a relaxed setting where we can talk about the world and what’s happening right now. It’s a great place to meet like-minded friends and neighbors. Light refreshments to be served. Lovingly hosted by Kathy DeMarco. \nFREE EVENT. \nSign up via Mobilize. Drop-ins always welcome.
URL:https://greatvalleydems.com/event/coffee-conversation-8/
LOCATION:45 Oak Hill Circle\, 45 Oak Hill Circle\, Malvern\, PA\, 19355\, United States
CATEGORIES:Social Event
ATTACH;FMTTYPE=image/png:https://greatvalleydems.com/wp-content/uploads/2025/06/coffee-image-1-1.png
END:VEVENT
BEGIN:VEVENT
DTSTART;VALUE=DATE:20250915
DTEND;VALUE=DATE:20250922
DTSTAMP:20260424T133613
CREATED:20250907T230430Z
LAST-MODIFIED:20250911T150816Z
UID:9258-1757894400-1758499199@greatvalleydems.com
SUMMARY:Great Valley GOTV Canvassing
DESCRIPTION:Sign up to help the Great Valley Democrats canvass for the month of September. We’ll talk with neighbors about the importance of turning out this year for county and municipal Democratic candidates. We’ll also talk about the importance of the PA Supreme Court Retention race. You can complete the list on your own time and with a friend\, on your own\, or ask to be given a partner. Training is available. \nThe times listed in the signup are not all inclusive. You may canvass at any day or anytime when you are available. Pick a week in the list that works for you\, and we will give you the packet we are working on that week. Packet pickup location within the Great Valley zone is sent after you sign up. Register here.
URL:https://greatvalleydems.com/event/great-valley-gotv-canvassing-9-19-25/
LOCATION:Great Valley\, Chester County\, PA
CATEGORIES:Canvass
ATTACH;FMTTYPE=image/png:https://greatvalleydems.com/wp-content/uploads/2025/09/gv-dems-canvassing.png
END:VEVENT
BEGIN:VEVENT
DTSTART;TZID=America/New_York:20250913T160000
DTEND;TZID=America/New_York:20250913T190000
DTSTAMP:20260424T133613
CREATED:20250430T140850Z
LAST-MODIFIED:20250712T222337Z
UID:9035-1757779200-1757790000@greatvalleydems.com
SUMMARY:Annual Fundraiser & Silent Auction
DESCRIPTION:Save the date to attend our upcoming Annual Fundraiser & Silent Auction. Auction items include sporting events tickets\, trip to a Poconos mountain house lodge\, and wine tasting party for 8. Appetizers\, wine\, beer\, and light refreshments are provided. \nWe’d love to see you there and appreciate your support as we continue the hard work toward preserving democracy. \nPurchase tickets now.
URL:https://greatvalleydems.com/event/annual-fundraiser-silent-auction/
LOCATION:17 Wildwood Drive\, Malvern\, PA\, 17 Wildwood Drive\, Malvern\, PA\, 19355\, United States
CATEGORIES:Fundraiser
ATTACH;FMTTYPE=image/png:https://greatvalleydems.com/wp-content/uploads/2025/04/Wine-and-appetizers.png
END:VEVENT
BEGIN:VEVENT
DTSTART;VALUE=DATE:20250912
DTEND;VALUE=DATE:20250915
DTSTAMP:20260424T133613
CREATED:20250907T224943Z
LAST-MODIFIED:20250911T150753Z
UID:9253-1757635200-1757894399@greatvalleydems.com
SUMMARY:Great Valley GOTV Canvassing
DESCRIPTION:Sign up to help the Great Valley Democrats canvass for the month of September. We’ll talk with neighbors about the importance of turning out this year for county and municipal Democratic candidates. We’ll also talk about the importance of the PA Supreme Court Retention race. You can complete the list on your own time and with a friend\, on your own\, or ask to be given a partner. Training is available. \nThe times listed in the signup are not all inclusive. You may canvass at any day or anytime when you are available. Pick a week in the list that works for you\, and we will give you the packet we are working on that week. Packet pickup location within the Great Valley zone is sent after you sign up. Register here.
URL:https://greatvalleydems.com/event/great-valley-gotv-canvassing-9-12-25/
LOCATION:Great Valley\, Chester County\, PA
CATEGORIES:Canvass
ATTACH;FMTTYPE=image/png:https://greatvalleydems.com/wp-content/uploads/2025/09/gv-dems-canvassing.png
END:VEVENT
BEGIN:VEVENT
DTSTART;TZID=America/New_York:20250903T190000
DTEND;TZID=America/New_York:20250903T200000
DTSTAMP:20260424T133613
CREATED:20241127T002229Z
LAST-MODIFIED:20250722T141600Z
UID:8899-1756926000-1756929600@greatvalleydems.com
SUMMARY:September Volunteer Meeting
DESCRIPTION:The school year is back in session and our school board candidates need to win. Join us so we can get our all of our local candidates elected. Sign up here.
URL:https://greatvalleydems.com/event/september-monthly-meeting-2/
LOCATION:East Whiteland Township Bldg\, 209 Conestoga Rd\, Malvern\, PA\, 19355\, United States
CATEGORIES:Monthly Meeting
ATTACH;FMTTYPE=image/jpeg:https://greatvalleydems.com/wp-content/uploads/2024/11/20250507_194451-scaled.jpg
END:VEVENT
BEGIN:VEVENT
DTSTART;TZID=America/New_York:20250826T190000
DTEND;TZID=America/New_York:20250826T200000
DTSTAMP:20260424T133613
CREATED:20250722T155540Z
LAST-MODIFIED:20250722T155842Z
UID:9191-1756234800-1756238400@greatvalleydems.com
SUMMARY:Activism Team Meeting
DESCRIPTION:The Activism Team meets from 7-8 pm on the last Tuesday of every month at the Wegmans in Malvern (enter side facing Target). For further details\, reach out to Kent at kingankpa@verizon.net.
URL:https://greatvalleydems.com/event/activism-team-meeting-2/
LOCATION:Wegmans\, 50 Foundry Way\, Malvern\, PA\, 19355\, United States
CATEGORIES:Activism
ATTACH;FMTTYPE=image/jpeg:https://greatvalleydems.com/wp-content/uploads/2025/07/20250405_173704711_iOS-scaled-e1753199508522.jpg
END:VEVENT
BEGIN:VEVENT
DTSTART;TZID=America/New_York:20250823T100000
DTEND;TZID=America/New_York:20250823T120000
DTSTAMP:20260424T133613
CREATED:20250702T194057Z
LAST-MODIFIED:20250722T142322Z
UID:9154-1755943200-1755950400@greatvalleydems.com
SUMMARY:Summer Day of Action
DESCRIPTION:Come join us for a day of action this summer! We want to reach college students before they leave for school. We will have a brief training for those who are not familiar with canvassing and literature drops. Our local candidates will be there along with other volunteers looking to make a difference in local\, county\, and state elections. For additional details\, register through Mobilize.
URL:https://greatvalleydems.com/event/great-valley-dems-day-of-action-2/
LOCATION:Valley Creek Park\, 361 N Morehall Rd\, Malvern\, PA\, 19355\, United States
CATEGORIES:Canvass
ATTACH;FMTTYPE=image/png:https://greatvalleydems.com/wp-content/uploads/2025/07/Volunteer-registration-169.png
END:VEVENT
BEGIN:VEVENT
DTSTART;TZID=America/New_York:20250820T100000
DTEND;TZID=America/New_York:20250820T113000
DTSTAMP:20260424T133613
CREATED:20250630T110144Z
LAST-MODIFIED:20250630T113526Z
UID:9120-1755684000-1755689400@greatvalleydems.com
SUMMARY:Coffee & Conversation
DESCRIPTION:Let’s join our friends and neighbors in a relaxed setting where we can talk about the world and what’s happening right now. It’s a great place to meet like-minded friends and neighbors. Light refreshments to be served. Lovingly hosted by Kathy DeMarco. \nFREE EVENT. \nSign up via Mobilize. Drop-ins always welcome.
URL:https://greatvalleydems.com/event/coffee-conversation-7/
LOCATION:45 Oak Hill Circle\, 45 Oak Hill Circle\, Malvern\, PA\, 19355\, United States
CATEGORIES:Social Event
ATTACH;FMTTYPE=image/png:https://greatvalleydems.com/wp-content/uploads/2025/06/coffee-image-1.png
END:VEVENT
BEGIN:VEVENT
DTSTART;TZID=America/New_York:20250806T190000
DTEND;TZID=America/New_York:20250806T200000
DTSTAMP:20260424T133613
CREATED:20241127T002009Z
LAST-MODIFIED:20250722T141805Z
UID:8897-1754506800-1754510400@greatvalleydems.com
SUMMARY:August Volunteer Meeting
DESCRIPTION:Ok…it’s time to get back into action to Get Out The Vote for our local Dems. We NEED the win this year. \nWe also have to finalize plans for our annual fundraiser next month and it will be all hands on deck. \nLet us know if you’ll be there via Mobilize. Please come. We need you.
URL:https://greatvalleydems.com/event/august-volunteer-meeting/
LOCATION:East Whiteland Township Bldg\, 209 Conestoga Rd\, Malvern\, PA\, 19355\, United States
CATEGORIES:Monthly Meeting
ATTACH;FMTTYPE=image/jpeg:https://greatvalleydems.com/wp-content/uploads/2024/11/Dems-Meeting-FEb-5-31-scaled.jpg
END:VEVENT
BEGIN:VEVENT
DTSTART;TZID=America/New_York:20250729T190000
DTEND;TZID=America/New_York:20250729T200000
DTSTAMP:20260424T133613
CREATED:20250722T154715Z
LAST-MODIFIED:20250722T154715Z
UID:9186-1753815600-1753819200@greatvalleydems.com
SUMMARY:Activism Team Meeting
DESCRIPTION:The Activism Team meets from 7-8 pm on the last Tuesday of every month at the Wegmans in Malvern (enter side facing Target). For further details\, reach out to Kent at kingankpa@verizon.net.
URL:https://greatvalleydems.com/event/activism-team-meeting/
LOCATION:Wegmans\, 50 Foundry Way\, Malvern\, PA\, 19355\, United States
CATEGORIES:Activism
ATTACH;FMTTYPE=image/jpeg:https://greatvalleydems.com/wp-content/uploads/2025/07/2025-06-20-McCormick-Protest.jpeg
END:VEVENT
BEGIN:VEVENT
DTSTART;TZID=America/New_York:20250727T153000
DTEND;TZID=America/New_York:20250727T180000
DTSTAMP:20260424T133613
CREATED:20250702T193544Z
LAST-MODIFIED:20250722T141654Z
UID:9149-1753630200-1753639200@greatvalleydems.com
SUMMARY:Summer Day of Action
DESCRIPTION:Come join us for a day of action this summer! We want to reach college students before they leave for school. We will have a brief training for those who are not familiar with canvassing and literature drops. Our local candidates will be there along with other volunteers looking to make a difference in local\, county\, and state elections. For additional details\, register through Mobilize.
URL:https://greatvalleydems.com/event/great-valley-dems-day-of-action/
LOCATION:Greentree Park\, 18 Grubb Rd\, Malvern\, PA\, 19355\, United States
CATEGORIES:Canvass
ATTACH;FMTTYPE=image/png:https://greatvalleydems.com/wp-content/uploads/2025/07/Volunteer-registration-169-1.png
END:VEVENT
BEGIN:VEVENT
DTSTART;TZID=America/New_York:20250708T183000
DTEND;TZID=America/New_York:20250708T200000
DTSTAMP:20260424T133613
CREATED:20250620T185724Z
LAST-MODIFIED:20250620T190345Z
UID:9106-1751999400-1752004800@greatvalleydems.com
SUMMARY:Voices of Democracy
DESCRIPTION:This is in lieu of our monthly meeting. There will be NO meeting on Wednesday. \nCome participate in a lively discussion on important topics facing our country today: \n\nMedicare\nSocial Security\nEconomy\n\nYOUR VOICES WILL BE HEARD. \nRSVP if you might attend. Light refreshments to be served from 6:30-7:00.
URL:https://greatvalleydems.com/event/voices-of-democracy/
LOCATION:East Whiteland Township Bldg\, 209 Conestoga Rd\, Malvern\, PA\, 19355\, United States
ATTACH;FMTTYPE=image/jpeg:https://greatvalleydems.com/wp-content/uploads/2025/06/pexels-rakicevic-nenad-233369-769525-scaled.jpg
END:VEVENT
BEGIN:VEVENT
DTSTART;VALUE=DATE:20250702
DTEND;VALUE=DATE:20250703
DTSTAMP:20260424T133613
CREATED:20241127T001756Z
LAST-MODIFIED:20250514T181805Z
UID:8895-1751414400-1751500799@greatvalleydems.com
SUMMARY:NO JULY VOLUNTEER MEETING
DESCRIPTION:Enjoy the holiday with your friends and family and we will meet again in August.
URL:https://greatvalleydems.com/event/no-july-volunteer-meeting/
CATEGORIES:Monthly Meeting
ATTACH;FMTTYPE=image/jpeg:https://greatvalleydems.com/wp-content/uploads/2024/06/July-Fourth.jpg
END:VEVENT
BEGIN:VEVENT
DTSTART;TZID=America/New_York:20250628T080000
DTEND;TZID=America/New_York:20250628T090000
DTSTAMP:20260424T133613
CREATED:20250515T175043Z
LAST-MODIFIED:20250602T164316Z
UID:9056-1751097600-1751101200@greatvalleydems.com
SUMMARY:Adopt-a-Highway Cleanup Event
DESCRIPTION:Join us for our spring cleanup of the section of King Road in Malvern starting at Charleston Greene Apartments and extending toward Immaculata College for 2 miles. We need volunteers! Get a Saturday morning walk in with like-minded friends and neighbors\, while serving our community. \n**WE FIRST MEET AT THE INTERSECTION OF GINGERWOOD RD AND W KING RD.** \nPark on Gingerwood Rd near the corner of W King Rd\, and we will all meet outside and disperse trash bags\, gloves\, etc. \nRSVP to bahamilton02@gmail.com or sign up via Mobilize.
URL:https://greatvalleydems.com/event/adopt-a-highway-cleanup-event/
LOCATION:Corner of Gingerwood Rd and W King Rd\, Malvern\, 19355\, United States
CATEGORIES:Social Event
ATTACH;FMTTYPE=image/jpeg:https://greatvalleydems.com/wp-content/uploads/2025/05/pexels-lara-jameson-9324302-scaled.jpg
END:VEVENT
BEGIN:VEVENT
DTSTART;TZID=America/New_York:20250604T190000
DTEND;TZID=America/New_York:20250604T200000
DTSTAMP:20260424T133613
CREATED:20241127T001600Z
LAST-MODIFIED:20250602T163628Z
UID:8893-1749063600-1749067200@greatvalleydems.com
SUMMARY:June Volunteer Meeting
DESCRIPTION:We’ve made it through the primaries\, now\, let’s make a plan for the summer to Get Out The Vote. Let us know you’re attending the meeting via Mobilize.
URL:https://greatvalleydems.com/event/june-volunteer-meeting/
LOCATION:East Whiteland Township Bldg\, 209 Conestoga Rd\, Malvern\, PA\, 19355\, United States
CATEGORIES:Monthly Meeting
ATTACH;FMTTYPE=image/jpeg:https://greatvalleydems.com/wp-content/uploads/2024/08/434668670_838422048324126_7438727114250646929_n.jpg
END:VEVENT
BEGIN:VEVENT
DTSTART;VALUE=DATE:20250520
DTEND;VALUE=DATE:20250521
DTSTAMP:20260424T133613
CREATED:20241127T000554Z
LAST-MODIFIED:20250514T181844Z
UID:8886-1747699200-1747785599@greatvalleydems.com
SUMMARY:Primary Election Day 2025
DESCRIPTION:Polls open 7am-8pm \nDrop boxes close at 8pm.
URL:https://greatvalleydems.com/event/primary-election-day-2025/
CATEGORIES:Election Important Dates
ATTACH;FMTTYPE=image/png:https://greatvalleydems.com/wp-content/uploads/2023/09/Go-Vote-Today-Large.png
END:VEVENT
BEGIN:VEVENT
DTSTART;TZID=America/New_York:20250515T170000
DTEND;TZID=America/New_York:20250515T180000
DTSTAMP:20260424T133613
CREATED:20250422T122913Z
LAST-MODIFIED:20250514T182112Z
UID:9012-1747328400-1747332000@greatvalleydems.com
SUMMARY:Get Out The Vote Rally
DESCRIPTION:Bring a sign or use one of ours. Rally in Burke Park to Get Out The Vote. \nCandidates will be there to meet.
URL:https://greatvalleydems.com/event/get-out-the-vote-rally-2/
LOCATION:Burke Park\, Warren Ave and Roberts Rd\, Malvern\, PA\, 19355\, United States
CATEGORIES:Candidate Event,Social Event
ATTACH;FMTTYPE=image/jpeg:https://greatvalleydems.com/wp-content/uploads/2020/10/Be-The-Wave-Burke-Parke-1.jpg
END:VEVENT
BEGIN:VEVENT
DTSTART;VALUE=DATE:20250513
DTEND;VALUE=DATE:20250514
DTSTAMP:20260424T133613
CREATED:20241127T001255Z
LAST-MODIFIED:20241127T001255Z
UID:8891-1747094400-1747180799@greatvalleydems.com
SUMMARY:Last Day to Apply for a Mail-in Ballot
DESCRIPTION:May 13: Last day to apply for a mail-in or civilian absentee ballot for the Primary Election
URL:https://greatvalleydems.com/event/last-day-to-apply-for-a-mail-in-ballot-3/
CATEGORIES:Election Important Dates
ATTACH;FMTTYPE=image/jpeg:https://greatvalleydems.com/wp-content/uploads/2023/12/Mail-In-Ballot-Deadline.jpg
END:VEVENT
BEGIN:VEVENT
DTSTART;TZID=America/Halifax:20250507T190000
DTEND;TZID=America/Halifax:20250507T200000
DTSTAMP:20260424T133613
CREATED:20241127T000409Z
LAST-MODIFIED:20241127T002841Z
UID:8884-1746644400-1746648000@greatvalleydems.com
SUMMARY:May Volunteer Meeting
DESCRIPTION:Let’s roll up our sleeves and get ready for Election day on the 20th. \nWE NEED YOU
URL:https://greatvalleydems.com/event/may-monthly-meeting-3/
LOCATION:East Whiteland Township Bldg\, 209 Conestoga Rd\, Malvern\, PA\, 19355\, United States
CATEGORIES:Monthly Meeting
ATTACH;FMTTYPE=image/jpeg:https://greatvalleydems.com/wp-content/uploads/2023/12/399163416_743669784466020_1450444975460182199_n-1.jpg
END:VEVENT
BEGIN:VEVENT
DTSTART;TZID=America/Halifax:20250507T100000
DTEND;TZID=America/Halifax:20250507T113000
DTSTAMP:20260424T133613
CREATED:20250401T182316Z
LAST-MODIFIED:20250401T182316Z
UID:8994-1746612000-1746617400@greatvalleydems.com
SUMMARY:Coffee & Conversation
DESCRIPTION:Let’s join our friends and neighbors in a relaxed setting where we can talk about the world and what’s happening right now. It’s a great place to meet like minded friends and neighbors. \nFREE EVENT \nLight refreshments to be served. \nLovingly hosted by Kathy DeMarco.
URL:https://greatvalleydems.com/event/coffee-conversation-6/
LOCATION:45 Oak Hill Circle\, 45 Oak Hill Circle\, Malvern\, PA\, 19355\, United States
CATEGORIES:Social Event
ATTACH;FMTTYPE=image/jpeg:https://greatvalleydems.com/wp-content/uploads/2024/08/qtq80-jCKCl6.jpeg
END:VEVENT
BEGIN:VEVENT
DTSTART;VALUE=DATE:20250505
DTEND;VALUE=DATE:20250506
DTSTAMP:20260424T133613
CREATED:20241127T001020Z
LAST-MODIFIED:20241127T001020Z
UID:8888-1746403200-1746489599@greatvalleydems.com
SUMMARY:Last Day To Register
DESCRIPTION:Last Day to Register for Primary Election: \nhttps://www.pavoterservices.pa.gov/Pages/VoterRegistrationApplication.aspx
URL:https://greatvalleydems.com/event/last-day-to-register/
CATEGORIES:Election Important Dates
ATTACH;FMTTYPE=image/jpeg:https://greatvalleydems.com/wp-content/uploads/2023/12/VoterRegistration.jpg
END:VEVENT
BEGIN:VEVENT
DTSTART;TZID=America/Halifax:20250424T190000
DTEND;TZID=America/Halifax:20250424T203000
DTSTAMP:20260424T133613
CREATED:20250401T180956Z
LAST-MODIFIED:20250403T184411Z
UID:8987-1745521200-1745526600@greatvalleydems.com
SUMMARY:Book Club: How to Spot & Push Back Against Disinformation
DESCRIPTION:April’s theme is “How to spot and push back against disinformation and fake news.” \nEasy to find\, very recent books are hard to come by\, so we’re going to use a series of articles again: \n\nThe ‘Sift’ strategy: A four-step method for spotting misinformation\nMisinformation\, Disinformation & Malinformation: A Guide – Princeton Public Library\nHow to talk to your friends and family about misinformation : NPR\nHow to Talk to the Conspiracy Theorist in Your Life | Psychology Today\nHow to talk to MAGA people – Teri Kanefield\n\nThis is a FREE event. Light refreshments to be served.
URL:https://greatvalleydems.com/event/book-club-hot-to-spot-push-back-against-disinformation/
LOCATION:3 Stoneybrook Lane\, Malvern PA 19355\, 3 Stoneybrook Lane\, Malvern\, PA\, 19355\, United States
CATEGORIES:Social Event
ATTACH;FMTTYPE=image/jpeg:https://greatvalleydems.com/wp-content/uploads/2025/03/qtq80-0dtvB1.jpeg
END:VEVENT
BEGIN:VEVENT
DTSTART;TZID=America/Halifax:20250415T160000
DTEND;TZID=America/Halifax:20250415T180000
DTSTAMP:20260424T133613
CREATED:20250401T181802Z
LAST-MODIFIED:20250401T181802Z
UID:8990-1744732800-1744740000@greatvalleydems.com
SUMMARY:Happy Hour: Bomba Taco Tuesday
DESCRIPTION:This is a fun event where we get together to discuss all things politics and democracy… \nCheck Bomba Tacos for drinks and menu prices.
URL:https://greatvalleydems.com/event/happy-hour-bomba-taco-tuesday/
LOCATION:Bomba Tacos\, 30 Liberty Blvd\, Malvern\, PA\, 19355\, United States
CATEGORIES:Social Event
ATTACH;FMTTYPE=image/jpeg:https://greatvalleydems.com/wp-content/uploads/2025/04/Happy-Hour-Taco-Tuesday.jpg
END:VEVENT
BEGIN:VEVENT
DTSTART;TZID=America/Halifax:20250412T140000
DTEND;TZID=America/Halifax:20250412T160000
DTSTAMP:20260424T133613
CREATED:20250411T191845Z
LAST-MODIFIED:20250411T191845Z
UID:9003-1744466400-1744473600@greatvalleydems.com
SUMMARY:Malvern Mayor Campaign Kickoff
DESCRIPTION:Join us as Pete Papadopoulos kicks off his mayoral campaign for Malvern Borough at Malvern Pizza. \nEnjoy free pizza\, ice cream\, beer\, and soda in a heated tent.
URL:https://greatvalleydems.com/event/malvern-mayor-campaign-kickoff/
LOCATION:Malvern Pizza\, 19 E King St\, Malvern\, PA\, 19355\, United States
CATEGORIES:Social Event
ATTACH;FMTTYPE=image/jpeg:https://greatvalleydems.com/wp-content/uploads/2025/04/pexels-amar-19786212-scaled.jpg
END:VEVENT
BEGIN:VEVENT
DTSTART;TZID=America/Halifax:20250402T190000
DTEND;TZID=America/Halifax:20250402T200000
DTSTAMP:20260424T133613
CREATED:20241127T000214Z
LAST-MODIFIED:20241127T000214Z
UID:8882-1743620400-1743624000@greatvalleydems.com
SUMMARY:April Volunteer Meeting
DESCRIPTION:The primary election is next month. \nMeet our candidates and ask them questions. Local elections make the biggest impact right here at home.
URL:https://greatvalleydems.com/event/april-volunteer-meeting/
LOCATION:East Whiteland Township Bldg\, 209 Conestoga Rd\, Malvern\, PA\, 19355\, United States
CATEGORIES:Monthly Meeting
ATTACH;FMTTYPE=image/jpeg:https://greatvalleydems.com/wp-content/uploads/2023/12/Monthly-Meeting-September.jpg
END:VEVENT
BEGIN:VEVENT
DTSTART;TZID=America/Halifax:20250327T190000
DTEND;TZID=America/Halifax:20250327T203000
DTSTAMP:20260424T133613
CREATED:20250318T122540Z
LAST-MODIFIED:20250318T122621Z
UID:8978-1743102000-1743107400@greatvalleydems.com
SUMMARY:Book Club
DESCRIPTION:We’re exploring some articles this month rather than a single book. \n\nCommunity Disinformation Action Hub – PEN America\n70 Ways to Make a Difference: Your Guide to Civic Action\nColumn: How to have a meaningful conversation with your MAGA dad  – Los Angeles Times\nPersuasive Conversations in Seven STEPs | National Association of Counties\nLetters That Win Votes—Crafting Persuasion That Inspires\, Not Alienates\n24 Ways to Grow Voters In 2024 | CIRCLE
URL:https://greatvalleydems.com/event/book-club-2/
LOCATION:14 Anthony Dr\, 14 Anthony Dr\, Malvern\, PA\, 19355\, United States
CATEGORIES:Social Event
ATTACH;FMTTYPE=image/jpeg:https://greatvalleydems.com/wp-content/uploads/2025/03/qtq80-0dtvB1.jpeg
END:VEVENT
END:VCALENDAR