BEGIN:VCALENDAR
VERSION:2.0
PRODID:-//Great Valley Democratic Committee - ECPv6.15.20//NONSGML v1.0//EN
CALSCALE:GREGORIAN
METHOD:PUBLISH
X-WR-CALNAME:Great Valley Democratic Committee
X-ORIGINAL-URL:https://greatvalleydems.com
X-WR-CALDESC:Events for Great Valley Democratic Committee
REFRESH-INTERVAL;VALUE=DURATION:PT1H
X-Robots-Tag:noindex
X-PUBLISHED-TTL:PT1H
BEGIN:VTIMEZONE
TZID:America/Halifax
BEGIN:DAYLIGHT
TZOFFSETFROM:-0400
TZOFFSETTO:-0300
TZNAME:ADT
DTSTART:20240310T060000
END:DAYLIGHT
BEGIN:STANDARD
TZOFFSETFROM:-0300
TZOFFSETTO:-0400
TZNAME:AST
DTSTART:20241103T050000
END:STANDARD
BEGIN:DAYLIGHT
TZOFFSETFROM:-0400
TZOFFSETTO:-0300
TZNAME:ADT
DTSTART:20250309T060000
END:DAYLIGHT
BEGIN:STANDARD
TZOFFSETFROM:-0300
TZOFFSETTO:-0400
TZNAME:AST
DTSTART:20251102T050000
END:STANDARD
BEGIN:DAYLIGHT
TZOFFSETFROM:-0400
TZOFFSETTO:-0300
TZNAME:ADT
DTSTART:20260308T060000
END:DAYLIGHT
BEGIN:STANDARD
TZOFFSETFROM:-0300
TZOFFSETTO:-0400
TZNAME:AST
DTSTART:20261101T050000
END:STANDARD
END:VTIMEZONE
BEGIN:VEVENT
DTSTART;TZID=America/Halifax:20250412T140000
DTEND;TZID=America/Halifax:20250412T160000
DTSTAMP:20260421T064809
CREATED:20250411T191845Z
LAST-MODIFIED:20250411T191845Z
UID:9003-1744466400-1744473600@greatvalleydems.com
SUMMARY:Malvern Mayor Campaign Kickoff
DESCRIPTION:Join us as Pete Papadopoulos kicks off his mayoral campaign for Malvern Borough at Malvern Pizza. \nEnjoy free pizza\, ice cream\, beer\, and soda in a heated tent.
URL:https://greatvalleydems.com/event/malvern-mayor-campaign-kickoff/
LOCATION:Malvern Pizza\, 19 E King St\, Malvern\, PA\, 19355\, United States
CATEGORIES:Social Event
ATTACH;FMTTYPE=image/jpeg:https://greatvalleydems.com/wp-content/uploads/2025/04/pexels-amar-19786212-scaled.jpg
END:VEVENT
END:VCALENDAR