BEGIN:VCALENDAR
VERSION:2.0
PRODID:-//Great Valley Democratic Committee - ECPv6.15.20//NONSGML v1.0//EN
CALSCALE:GREGORIAN
METHOD:PUBLISH
X-WR-CALNAME:Great Valley Democratic Committee
X-ORIGINAL-URL:https://greatvalleydems.com
X-WR-CALDESC:Events for Great Valley Democratic Committee
REFRESH-INTERVAL;VALUE=DURATION:PT1H
X-Robots-Tag:noindex
X-PUBLISHED-TTL:PT1H
BEGIN:VTIMEZONE
TZID:America/Halifax
BEGIN:DAYLIGHT
TZOFFSETFROM:-0400
TZOFFSETTO:-0300
TZNAME:ADT
DTSTART:20240310T060000
END:DAYLIGHT
BEGIN:STANDARD
TZOFFSETFROM:-0300
TZOFFSETTO:-0400
TZNAME:AST
DTSTART:20241103T050000
END:STANDARD
BEGIN:DAYLIGHT
TZOFFSETFROM:-0400
TZOFFSETTO:-0300
TZNAME:ADT
DTSTART:20250309T060000
END:DAYLIGHT
BEGIN:STANDARD
TZOFFSETFROM:-0300
TZOFFSETTO:-0400
TZNAME:AST
DTSTART:20251102T050000
END:STANDARD
BEGIN:DAYLIGHT
TZOFFSETFROM:-0400
TZOFFSETTO:-0300
TZNAME:ADT
DTSTART:20260308T060000
END:DAYLIGHT
BEGIN:STANDARD
TZOFFSETFROM:-0300
TZOFFSETTO:-0400
TZNAME:AST
DTSTART:20261101T050000
END:STANDARD
END:VTIMEZONE
BEGIN:VTIMEZONE
TZID:America/New_York
BEGIN:DAYLIGHT
TZOFFSETFROM:-0500
TZOFFSETTO:-0400
TZNAME:EDT
DTSTART:20240310T070000
END:DAYLIGHT
BEGIN:STANDARD
TZOFFSETFROM:-0400
TZOFFSETTO:-0500
TZNAME:EST
DTSTART:20241103T060000
END:STANDARD
BEGIN:DAYLIGHT
TZOFFSETFROM:-0500
TZOFFSETTO:-0400
TZNAME:EDT
DTSTART:20250309T070000
END:DAYLIGHT
BEGIN:STANDARD
TZOFFSETFROM:-0400
TZOFFSETTO:-0500
TZNAME:EST
DTSTART:20251102T060000
END:STANDARD
BEGIN:DAYLIGHT
TZOFFSETFROM:-0500
TZOFFSETTO:-0400
TZNAME:EDT
DTSTART:20260308T070000
END:DAYLIGHT
BEGIN:STANDARD
TZOFFSETFROM:-0400
TZOFFSETTO:-0500
TZNAME:EST
DTSTART:20261101T060000
END:STANDARD
END:VTIMEZONE
BEGIN:VEVENT
DTSTART;TZID=America/Halifax:20250507T100000
DTEND;TZID=America/Halifax:20250507T113000
DTSTAMP:20260421T092329
CREATED:20250401T182316Z
LAST-MODIFIED:20250401T182316Z
UID:8994-1746612000-1746617400@greatvalleydems.com
SUMMARY:Coffee & Conversation
DESCRIPTION:Let’s join our friends and neighbors in a relaxed setting where we can talk about the world and what’s happening right now. It’s a great place to meet like minded friends and neighbors. \nFREE EVENT \nLight refreshments to be served. \nLovingly hosted by Kathy DeMarco.
URL:https://greatvalleydems.com/event/coffee-conversation-6/
LOCATION:45 Oak Hill Circle\, 45 Oak Hill Circle\, Malvern\, PA\, 19355\, United States
CATEGORIES:Social Event
ATTACH;FMTTYPE=image/jpeg:https://greatvalleydems.com/wp-content/uploads/2024/08/qtq80-jCKCl6.jpeg
END:VEVENT
BEGIN:VEVENT
DTSTART;TZID=America/New_York:20250515T170000
DTEND;TZID=America/New_York:20250515T180000
DTSTAMP:20260421T092329
CREATED:20250422T122913Z
LAST-MODIFIED:20250514T182112Z
UID:9012-1747328400-1747332000@greatvalleydems.com
SUMMARY:Get Out The Vote Rally
DESCRIPTION:Bring a sign or use one of ours. Rally in Burke Park to Get Out The Vote. \nCandidates will be there to meet.
URL:https://greatvalleydems.com/event/get-out-the-vote-rally-2/
LOCATION:Burke Park\, Warren Ave and Roberts Rd\, Malvern\, PA\, 19355\, United States
CATEGORIES:Candidate Event,Social Event
ATTACH;FMTTYPE=image/jpeg:https://greatvalleydems.com/wp-content/uploads/2020/10/Be-The-Wave-Burke-Parke-1.jpg
END:VEVENT
END:VCALENDAR