BEGIN:VCALENDAR
VERSION:2.0
PRODID:-//Great Valley Democratic Committee - ECPv6.15.20//NONSGML v1.0//EN
CALSCALE:GREGORIAN
METHOD:PUBLISH
X-WR-CALNAME:Great Valley Democratic Committee
X-ORIGINAL-URL:https://greatvalleydems.com
X-WR-CALDESC:Events for Great Valley Democratic Committee
REFRESH-INTERVAL;VALUE=DURATION:PT1H
X-Robots-Tag:noindex
X-PUBLISHED-TTL:PT1H
BEGIN:VTIMEZONE
TZID:America/New_York
BEGIN:DAYLIGHT
TZOFFSETFROM:-0500
TZOFFSETTO:-0400
TZNAME:EDT
DTSTART:20240310T070000
END:DAYLIGHT
BEGIN:STANDARD
TZOFFSETFROM:-0400
TZOFFSETTO:-0500
TZNAME:EST
DTSTART:20241103T060000
END:STANDARD
BEGIN:DAYLIGHT
TZOFFSETFROM:-0500
TZOFFSETTO:-0400
TZNAME:EDT
DTSTART:20250309T070000
END:DAYLIGHT
BEGIN:STANDARD
TZOFFSETFROM:-0400
TZOFFSETTO:-0500
TZNAME:EST
DTSTART:20251102T060000
END:STANDARD
BEGIN:DAYLIGHT
TZOFFSETFROM:-0500
TZOFFSETTO:-0400
TZNAME:EDT
DTSTART:20260308T070000
END:DAYLIGHT
BEGIN:STANDARD
TZOFFSETFROM:-0400
TZOFFSETTO:-0500
TZNAME:EST
DTSTART:20261101T060000
END:STANDARD
END:VTIMEZONE
BEGIN:VTIMEZONE
TZID:America/Halifax
BEGIN:DAYLIGHT
TZOFFSETFROM:-0400
TZOFFSETTO:-0300
TZNAME:ADT
DTSTART:20220313T060000
END:DAYLIGHT
BEGIN:STANDARD
TZOFFSETFROM:-0300
TZOFFSETTO:-0400
TZNAME:AST
DTSTART:20221106T050000
END:STANDARD
BEGIN:DAYLIGHT
TZOFFSETFROM:-0400
TZOFFSETTO:-0300
TZNAME:ADT
DTSTART:20230312T060000
END:DAYLIGHT
BEGIN:STANDARD
TZOFFSETFROM:-0300
TZOFFSETTO:-0400
TZNAME:AST
DTSTART:20231105T050000
END:STANDARD
BEGIN:DAYLIGHT
TZOFFSETFROM:-0400
TZOFFSETTO:-0300
TZNAME:ADT
DTSTART:20240310T060000
END:DAYLIGHT
BEGIN:STANDARD
TZOFFSETFROM:-0300
TZOFFSETTO:-0400
TZNAME:AST
DTSTART:20241103T050000
END:STANDARD
END:VTIMEZONE
BEGIN:VEVENT
DTSTART;TZID=America/New_York:20250515T170000
DTEND;TZID=America/New_York:20250515T180000
DTSTAMP:20260421T092329
CREATED:20250422T122913Z
LAST-MODIFIED:20250514T182112Z
UID:9012-1747328400-1747332000@greatvalleydems.com
SUMMARY:Get Out The Vote Rally
DESCRIPTION:Bring a sign or use one of ours. Rally in Burke Park to Get Out The Vote. \nCandidates will be there to meet.
URL:https://greatvalleydems.com/event/get-out-the-vote-rally-2/
LOCATION:Burke Park\, Warren Ave and Roberts Rd\, Malvern\, PA\, 19355\, United States
CATEGORIES:Candidate Event,Social Event
ATTACH;FMTTYPE=image/jpeg:https://greatvalleydems.com/wp-content/uploads/2020/10/Be-The-Wave-Burke-Parke-1.jpg
END:VEVENT
BEGIN:VEVENT
DTSTART;TZID=America/Halifax:20231028T163000
DTEND;TZID=America/Halifax:20231028T183000
DTSTAMP:20260421T092329
CREATED:20231022T190750Z
LAST-MODIFIED:20231022T190750Z
UID:8420-1698510600-1698517800@greatvalleydems.com
SUMMARY:Wine & Cheese with School Board Candidates
DESCRIPTION:THIS IS A FREE EVENT \nBecky & Tom are running for school board. \n\nAre book bans imminent?\nWhat are we doing about over-crowding?\nAre there curriculum changes?\n\nCome find out about all of this and more. Ask your questions one-on-one and enjoy some wine and cheese while you’re at it.
URL:https://greatvalleydems.com/event/wine-cheese-with-school-board-candidates/
LOCATION:33 Old Covered Bridge Rd\, 33 Old Covered Bridge Rd\, Newtown Square\, PA\, 19073\, United States
CATEGORIES:Candidate Event
ATTACH;FMTTYPE=image/jpeg:https://greatvalleydems.com/wp-content/uploads/2022/11/Holiday-Party.jpg
END:VEVENT
BEGIN:VEVENT
DTSTART;TZID=America/Halifax:20231024T170000
DTEND;TZID=America/Halifax:20231024T190000
DTSTAMP:20260421T092329
CREATED:20231022T190103Z
LAST-MODIFIED:20231022T190103Z
UID:8416-1698166800-1698174000@greatvalleydems.com
SUMMARY:Wine & Cheese with the Candidates
DESCRIPTION:THIS IS A FREE EVENT \nBecky & Tom are running for school board. \n\nAre book bans imminent?\nWhat are we doing about over-crowding?\nAre there curriculum changes?\n\nMolly is running for reelection! \n\nHow is she moving forward with the costs of the sewer system?\nWhat are her hopes for preserving open space?\nWhat about all of the flooding and storm water each spring?\n\nCome find out about all of this and more. Ask your questions one-on-one and enjoy some wine and cheese while you’re at it. \n 
URL:https://greatvalleydems.com/event/wine-cheese-with-the-candidates/
LOCATION:21 Andrews Rd\, 21 Andrews Rd\, Malvern\, PA\, 19355\, United States
CATEGORIES:Candidate Event
ATTACH;FMTTYPE=image/jpeg:https://greatvalleydems.com/wp-content/uploads/2023/10/qtq80-gz0NT3.jpeg
END:VEVENT
END:VCALENDAR